BEGIN:VCALENDAR
VERSION:2.0
PRODID:https://www.als-schweiz.ch
METHOD:PUBLISH
BEGIN:VEVENT
LOCATION:<span>Stadttheater Olten,</span> <span>Frohburgstrasse 1,</span> <span>4603&nbsp;Olten</span>
SUMMARY:Journée nationale sur la SLA
DESCRIPTION:
La Journée nationale sur la SLA, organisée tous les deux ans, réunit personnes atteintes, proches, professionnel·le·s et personnes intéressées. Le programme sera publié dès que possible.
 


CLASS:PUBLIC
DTSTART:20261016T000000
END:VEVENT
END:VCALENDAR