BEGIN:VCALENDAR
VERSION:2.0
PRODID:https://www.als-schweiz.ch
METHOD:PUBLISH
BEGIN:VEVENT
LOCATION:<span>Y- PARC,</span> <span>Rue Galilée 15,</span> <span>1400&nbsp;Yverdon</span>
SUMMARY:Rencontre SLA (en présentiel à Yverdon)
DESCRIPTION:
Les rencontres SLA s’adressent aux personnes atteintes de la sclérose latérale amyotrophique et à leurs proches. Elles ont pour objectif de permettre aux participant-e-s de partager leurs préoccupations, leurs inquiétudes et interrogations.
 
C’est également un lieu d’échange, de partage de combines et de stratégies pour comprendre et surmonter les difficultés vécues au quotidien.
 

jeudi 8 octobre, de 14h à 16h (en présentiel à Yverdon)

 
&gt; Formulaire d’inscription aux rencontres 2026
 
&gt; Plus…
 


CLASS:PUBLIC
DTSTART:20261008T140000
DTEND:20261008T160000
END:VEVENT
END:VCALENDAR